BEGIN:VCALENDAR
VERSION:2.0
PRODID:-//Thorrington Scout Camp - ECPv6.15.20//NONSGML v1.0//EN
CALSCALE:GREGORIAN
METHOD:PUBLISH
X-WR-CALNAME:Thorrington Scout Camp
X-ORIGINAL-URL:https://thorringtonscoutcamp.co.uk
X-WR-CALDESC:Events for Thorrington Scout Camp
REFRESH-INTERVAL;VALUE=DURATION:PT1H
X-Robots-Tag:noindex
X-PUBLISHED-TTL:PT1H
BEGIN:VTIMEZONE
TZID:Europe/London
BEGIN:DAYLIGHT
TZOFFSETFROM:+0000
TZOFFSETTO:+0100
TZNAME:BST
DTSTART:20250330T010000
END:DAYLIGHT
BEGIN:STANDARD
TZOFFSETFROM:+0100
TZOFFSETTO:+0000
TZNAME:GMT
DTSTART:20251026T010000
END:STANDARD
BEGIN:DAYLIGHT
TZOFFSETFROM:+0000
TZOFFSETTO:+0100
TZNAME:BST
DTSTART:20260329T010000
END:DAYLIGHT
BEGIN:STANDARD
TZOFFSETFROM:+0100
TZOFFSETTO:+0000
TZNAME:GMT
DTSTART:20261025T010000
END:STANDARD
BEGIN:DAYLIGHT
TZOFFSETFROM:+0000
TZOFFSETTO:+0100
TZNAME:BST
DTSTART:20270328T010000
END:DAYLIGHT
BEGIN:STANDARD
TZOFFSETFROM:+0100
TZOFFSETTO:+0000
TZNAME:GMT
DTSTART:20271031T010000
END:STANDARD
END:VTIMEZONE
BEGIN:VEVENT
DTSTART;TZID=Europe/London:20260606T100000
DTEND;TZID=Europe/London:20260606T140000
DTSTAMP:20260421T142355
CREATED:20260120T205153Z
LAST-MODIFIED:20260213T100748Z
UID:3091-1780740000-1780754400@thorringtonscoutcamp.co.uk
SUMMARY:Thorrington Warden Open Day
DESCRIPTION:Curious about getting involved at Thorrington Scout Camp? Our Warden Open Day is a great opportunity to find out how you could make a real difference – while gaining new skills\, confidence\, and experiences along the way. \nThe day is all about discovery. You’ll meet the people behind the scenes\, learn what wardens do\, and explore the activities and opportunities that make the camp such a special place for young people and volunteers alike. \nAt the open day\, you will: \n\n\nFind out more about the warden role and how it fits around your time and commitments \n\n\nDiscover the activities and facilities available at Thorrington Scout Camp and give them a try! \n\n\nMeet friendly volunteers from each warden team\, who will share their stories and answer your questions \n\n\nWhether you’re looking to volunteer\, learn new skills\, give back to your community\, or simply want to know more\, this is a relaxed and welcoming way to take your first step. No pressure – just a chance to see where you could belong and how you could help create Skills for Life for others (and yourself). \nWe’d love to welcome you to Thorrington Scout Camp. \nPlease confirm your attendance using the RSVP function noted below.
URL:https://thorringtonscoutcamp.co.uk/event/thorrington-warden-open-day/
LOCATION:Thorrington Scout Camp\, Brick Kiln Lane\, Colchester\, Essex\, CO7 8JF\, United Kingdom
CATEGORIES:Events & Open Days
ATTACH;FMTTYPE=image/svg+xml:https://thorringtonscoutcamp.co.uk/wp-content/uploads/2026/02/1-2a4405.svg
ORGANIZER;CN="Thorrington Scout Camp":MAILTO:contactus@thorringtonscoutcamp.co.uk
END:VEVENT
BEGIN:VEVENT
DTSTART;TZID=Europe/London:20260606T163000
DTEND;TZID=Europe/London:20260606T200000
DTSTAMP:20260421T142355
CREATED:20251216T210715Z
LAST-MODIFIED:20260213T100355Z
UID:3008-1780763400-1780776000@thorringtonscoutcamp.co.uk
SUMMARY:Warden Summer BBQ
DESCRIPTION:We’re excited to host the Warden Summer BBQ\, a special event just for our wardens to say a huge thank-you for all the time\, energy\, and dedication they give. This is all about celebrating you and the incredible work you do\, volunteering your free time to make a real difference. \nThe BBQ will be a relaxed summer get-together with good food\, great company\, and plenty of opportunity to kick back and enjoy some well-deserved fun. It’s our way of showing appreciation for everything you do and to celebrate the ongoing successes of the team. \nWe can’t wait to see all our wardens there and make it a memorable\, enjoyable day for everyone!
URL:https://thorringtonscoutcamp.co.uk/event/vrt-summer-bbq/
LOCATION:Thorrington Scout Camp\, Brick Kiln Lane\, Colchester\, Essex\, CO7 8JF\, United Kingdom
CATEGORIES:Events & Open Days
ATTACH;FMTTYPE=image/svg+xml:https://thorringtonscoutcamp.co.uk/wp-content/uploads/2026/02/2-553e94.svg
ORGANIZER;CN="Thorrington Scout Camp":MAILTO:contactus@thorringtonscoutcamp.co.uk
END:VEVENT
END:VCALENDAR